BEGIN:VCALENDAR
VERSION:2.0
PRODID:-//pg-neustadt-muehlhausen.de/DE
CALSCALE:GREGORIAN
BEGIN:VEVENT
DTSTART:20260501T190000
DTEND:20260501T200000
LOCATION:in beiden Pfarrkirchen
DTSTAMP:20260501T190000
SUMMARY:Erste Maiandacht
URL;VALUE=URI:https://www.pg-neustadt-muehlhausen.de
DESCRIPTION:Um 19 Uhr Maiandacht in St. Laurentius und in St. Vitus
UID:20260501T190000-20260501T190000-20260501T200000
END:VEVENT
END:VCALENDAR