BEGIN:VCALENDAR
VERSION:2.0
PRODID:-//pg-neustadt-muehlhausen.de/DE
CALSCALE:GREGORIAN
BEGIN:VEVENT
DTSTART:20260502T180000
DTEND:20260502T190000
LOCATION:Stadtpfarrkirche St. Laurentius
DTSTAMP:20260502T180000
SUMMARY:Floriani-Feier der FFW Neustadt
URL;VALUE=URI:https://www.pg-neustadt-muehlhausen.de
DESCRIPTION:Sonntagvorabendmesse mit Floriani-Feier
UID:20260502T180000-20260502T180000-20260502T190000
END:VEVENT
END:VCALENDAR