BEGIN:VCALENDAR
VERSION:2.0
PRODID:-//pg-neustadt-muehlhausen.de/DE
CALSCALE:GREGORIAN
BEGIN:VEVENT
DTSTART:20260505T160000
DTEND:20260505T170000
LOCATION: 
DTSTAMP:20260505T160000
SUMMARY:Maiandacht an der Donau
URL;VALUE=URI:https://www.pg-neustadt-muehlhausen.de
DESCRIPTION:Maiandacht für Kinder und Familien
UID:20260505T160000-20260505T160000-20260505T170000
END:VEVENT
END:VCALENDAR