BEGIN:VCALENDAR
VERSION:2.0
PRODID:-//pg-neustadt-muehlhausen.de/DE
CALSCALE:GREGORIAN
BEGIN:VEVENT
DTSTART:20260506T193000
DTEND:20260506T203000
LOCATION:Pfarrheim Mühlhausen
DTSTAMP:20260506T193000
SUMMARY:Pfarrgemeinderat
URL;VALUE=URI:https://www.pg-neustadt-muehlhausen.de
DESCRIPTION:Sitzung des Pfarrgemeinderats
UID:20260506T193000-20260506T193000-20260506T203000
END:VEVENT
END:VCALENDAR