BEGIN:VCALENDAR
VERSION:2.0
PRODID:-//pg-neustadt-muehlhausen.de/DE
CALSCALE:GREGORIAN
BEGIN:VEVENT
DTSTART:20260510T200000
DTEND:20260510T210000
LOCATION:Schererkapelle
DTSTAMP:20260510T200000
SUMMARY:Maiandacht an der Schererkapelle Marching
URL;VALUE=URI:https://www.pg-neustadt-muehlhausen.de
DESCRIPTION:
UID:20260510T200000-20260510T200000-20260510T210000
END:VEVENT
END:VCALENDAR