BEGIN:VCALENDAR
VERSION:2.0
PRODID:-//pg-neustadt-muehlhausen.de/DE
CALSCALE:GREGORIAN
BEGIN:VEVENT
DTSTART:20260515T190000
DTEND:20260515T200000
LOCATION:Mühlhausen
DTSTAMP:20260515T190000
SUMMARY:Flurumgang
URL;VALUE=URI:https://www.pg-neustadt-muehlhausen.de
DESCRIPTION:Flurumgang in Mühlhausen (westlicher Teil),<br>anschl. Bitt-Amt
UID:20260515T190000-20260515T190000-20260515T200000
END:VEVENT
END:VCALENDAR