BEGIN:VCALENDAR
VERSION:2.0
PRODID:-//pg-neustadt-muehlhausen.de/DE
CALSCALE:GREGORIAN
BEGIN:VEVENT
DTSTART:20260520T080000
DTEND:20260520T90000
LOCATION:Mühlhausen
DTSTAMP:20260520T080000
SUMMARY:Frühstück am Mittwoch
URL;VALUE=URI:https://www.pg-neustadt-muehlhausen.de
DESCRIPTION:8 Uhr hl. Messe in der Pfarrkirche St. Vitus<br>anschl. gemeinsames Frühstück im Pfarrheim Mühlhausen
UID:20260520T080000-20260520T080000-20260520T90000
END:VEVENT
END:VCALENDAR