BEGIN:VCALENDAR
VERSION:2.0
PRODID:-//pg-neustadt-muehlhausen.de/DE
CALSCALE:GREGORIAN
BEGIN:VEVENT
DTSTART:20260524T190000
DTEND:20260524T200000
LOCATION:Denkmal der Bauernbruderschaft am Polderdamm
DTSTAMP:20260524T190000
SUMMARY:Andacht am Polderdamm
URL;VALUE=URI:https://www.pg-neustadt-muehlhausen.de
DESCRIPTION:
UID:20260524T190000-20260524T190000-20260524T200000
END:VEVENT
END:VCALENDAR