BEGIN:VCALENDAR
VERSION:2.0
PRODID:-//pg-neustadt-muehlhausen.de/DE
CALSCALE:GREGORIAN
BEGIN:VEVENT
DTSTART:20260525T103000
DTEND:20260525T113000
LOCATION:Volksfest Neustadt
DTSTAMP:20260525T103000
SUMMARY:Gottesdienst im Festzelt
URL;VALUE=URI:https://www.pg-neustadt-muehlhausen.de
DESCRIPTION:
UID:20260525T103000-20260525T103000-20260525T113000
END:VEVENT
END:VCALENDAR